BEGIN:VCALENDAR
VERSION:2.0
PRODID:-//www.whiskers-n-paws.org//NONSGML kigkonsult.se iCalcreator 2.30.1
 0//
CALSCALE:GREGORIAN
METHOD:PUBLISH
UID:bea9bc38-34c8-4cf1-aa88-60ce2a66f361
X-WR-CALDESC:Due to COVID-19\, our entire flow has changed.  We will now ta
 ke appointments for our Saturday vaccine clinic.  Each appointment will be
  ten minutes long.  You will need to schedule your pet's appointment from 
 the HELP Spay Neuter Clinic link below:\n
X-WR-RELCALID:01d1625387358dac9d8d82ec2402e456
X-WR-TIMEZONE:America/New_York
BEGIN:VTIMEZONE
TZID:America/New_York
BEGIN:STANDARD
TZNAME:EST
DTSTART:20211107T020000
TZOFFSETFROM:-0400
TZOFFSETTO:-0500
RDATE:20221106T020000
END:STANDARD
BEGIN:DAYLIGHT
TZNAME:EDT
DTSTART:20210314T020000
TZOFFSETFROM:-0500
TZOFFSETTO:-0400
RDATE:20220313T020000
RDATE:20230312T020000
END:DAYLIGHT
END:VTIMEZONE
BEGIN:VEVENT
UID:26f5068e-df64-4615-97ef-d9c3b9f9d733
DTSTAMP:20260419T122720Z
DESCRIPTION:Due to COVID-19\, our entire flow has changed.  We will now tak
 e appointments for our Saturday vaccine clinic.  Each appointment will be 
 ten minutes long.  You will need to schedule your pet's appointment from t
 he HELP Spay Neuter Clinic link below:\n
DTSTART;TZID=America/New_York:20211106T090000
DTEND;TZID=America/New_York:20211106T100000
LOCATION:
SUMMARY:HELP Vaccine Clinic
END:VEVENT
END:VCALENDAR
